BEGIN:VCALENDAR
VERSION:2.0
PRODID:-//eventon.com NONSGML v1.0//EN
BEGIN:VEVENT
UID:69ea4c838ad14
DTSTAMP:20260423T134451
DTSTART:20241007T213000Z
DTEND:20241007T223000Z
LOCATION:
SUMMARY:Reunião Cojefi
DESCRIPTION: Reunião Cojefi
END:VEVENT
END:VCALENDAR