BEGIN:VCALENDAR
VERSION:2.0
PRODID:-//eventon.com NONSGML v1.0//EN
BEGIN:VEVENT
UID:69ece8a699a41
DTSTAMP:20260425T131534
DTSTART:20240918T123000Z
DTEND:20240918T133000Z
LOCATION:
SUMMARY:Evento NUCAFI - Esg para todos
DESCRIPTION: Evento NUCAFI - Esg para todos
END:VEVENT
END:VCALENDAR