BEGIN:VCALENDAR
VERSION:2.0
PRODID:-//eventon.com NONSGML v1.0//EN
BEGIN:VEVENT
UID:69e7608584c8b
DTSTAMP:20260421T083325
DTSTART:20240916T220000Z
DTEND:20240916T230000Z
LOCATION:
SUMMARY:Reunião Diretoria de Comércio Exterior ACIFI
DESCRIPTION: Reunião Diretoria de Comércio Exterior ACIFI
END:VEVENT
END:VCALENDAR