BEGIN:VCALENDAR
VERSION:2.0
PRODID:-//eventon.com NONSGML v1.0//EN
BEGIN:VEVENT
UID:69e8869a9c0cb
DTSTAMP:20260422T052810
DTSTART:20240819T210000Z
DTEND:20240820T000000Z
LOCATION:
SUMMARY:Reunião Iguassu Agro Ventures
DESCRIPTION: Reunião Iguassu Agro Ventures
END:VEVENT
END:VCALENDAR