BEGIN:VCALENDAR
VERSION:2.0
PRODID:-//eventon.com NONSGML v1.0//EN
BEGIN:VEVENT
UID:69e7344d0d88f
DTSTAMP:20260421T052445
DTSTART:20240617T180000Z
DTEND:20240617T190000Z
LOCATION:
SUMMARY:Reunião CODETRI
DESCRIPTION: Reunião CODETRI
END:VEVENT
END:VCALENDAR