BEGIN:VCALENDAR
VERSION:2.0
PRODID:-//eventon.com NONSGML v1.0//EN
BEGIN:VEVENT
UID:69ea3a8ad409b
DTSTAMP:20260423T122810
DTSTART:20240509T110000Z
DTEND:20240509T130000Z
LOCATION:
SUMMARY:Reunião NIMOB
DESCRIPTION: Reunião NIMOB
END:VEVENT
END:VCALENDAR