BEGIN:VCALENDAR
VERSION:2.0
PRODID:-//eventon.com NONSGML v1.0//EN
BEGIN:VEVENT
UID:69e6d01d8e5a6
DTSTAMP:20260420T221717
DTSTART:20240312T220000Z
DTEND:20240312T230000Z
LOCATION:
SUMMARY:AGO ACIFI
DESCRIPTION: AGO ACIFI
END:VEVENT
END:VCALENDAR