BEGIN:VCALENDAR
VERSION:2.0
PRODID:-//eventon.com NONSGML v1.0//EN
BEGIN:VEVENT
UID:69eaf62382844
DTSTAMP:20260424T014835
DTSTART:20240304T170000Z
DTEND:20240304T210000Z
LOCATION:
SUMMARY:Reunião Summit Iguassu Valley
DESCRIPTION: Reunião Summit Iguassu Valley
END:VEVENT
END:VCALENDAR