BEGIN:VCALENDAR
VERSION:2.0
PRODID:-//eventon.com NONSGML v1.0//EN
BEGIN:VEVENT
UID:69e854a0b552d
DTSTAMP:20260422T015456
DTSTART:20231123T110000Z
DTEND:20231123T130000Z
LOCATION:
SUMMARY:Reunião NIMOB
DESCRIPTION: Reunião NIMOB
END:VEVENT
END:VCALENDAR