BEGIN:VCALENDAR
VERSION:2.0
PRODID:-//eventon.com NONSGML v1.0//EN
BEGIN:VEVENT
UID:69eb63625a85d
DTSTAMP:20260424T093442
DTSTART:20231031T150000Z
DTEND:20231031T210000Z
LOCATION:
SUMMARY:Reunião TECNOMYL
DESCRIPTION: Reunião TECNOMYL
END:VEVENT
END:VCALENDAR