BEGIN:VCALENDAR
VERSION:2.0
PRODID:-//eventon.com NONSGML v1.0//EN
BEGIN:VEVENT
UID:69e747e99709b
DTSTAMP:20260421T064825
DTSTART:20230724T170000Z
DTEND:20230724T180000Z
LOCATION:
SUMMARY:Reunião Diretoria Feirantes
DESCRIPTION: Reunião Diretoria Feirantes
END:VEVENT
END:VCALENDAR