BEGIN:VCALENDAR
VERSION:2.0
PRODID:-//eventon.com NONSGML v1.0//EN
BEGIN:VEVENT
UID:69ea467d5015f
DTSTAMP:20260423T131909
DTSTART:20230712T200000Z
DTEND:20230712T210000Z
LOCATION:
SUMMARY:Reunião Diretoria Feirantes
DESCRIPTION: Reunião Diretoria Feirantes
END:VEVENT
END:VCALENDAR