BEGIN:VCALENDAR
VERSION:2.0
PRODID:-//eventon.com NONSGML v1.0//EN
BEGIN:VEVENT
UID:69eb7951ee404
DTSTAMP:20260424T110817
DTSTART:20230606T110000Z
DTEND:20230606T130000Z
LOCATION:
SUMMARY:Reunião Iguassu Valley - Visita Alunos
DESCRIPTION: Reunião Iguassu Valley - Visita Alunos
END:VEVENT
END:VCALENDAR