BEGIN:VCALENDAR
VERSION:2.0
PRODID:-//eventon.com NONSGML v1.0//EN
BEGIN:VEVENT
UID:69e6c4a7247d6
DTSTAMP:20260420T212823
DTSTART:20220127T110000Z
DTEND:20220127T150000Z
LOCATION:
SUMMARY:Reunião Núcleo de Imobiliárias
DESCRIPTION: Reunião Núcleo de Imobiliárias
END:VEVENT
END:VCALENDAR