BEGIN:VCALENDAR
VERSION:2.0
PRODID:-//eventon.com NONSGML v1.0//EN
BEGIN:VEVENT
UID:69ea892e9b519
DTSTAMP:20260423T180342
DTSTART:20211110T213000Z
DTEND:20211110T230000Z
LOCATION:
SUMMARY:Reunião COJEFI
DESCRIPTION: Reunião COJEFI
END:VEVENT
END:VCALENDAR