BEGIN:VCALENDAR
VERSION:2.0
PRODID:-//eventon.com NONSGML v1.0//EN
BEGIN:VEVENT
UID:69e8919d75bed
DTSTAMP:20260422T061509
DTSTART:20210914T110000Z
DTEND:20210914T210000Z
LOCATION:
SUMMARY:Evento Polo Iguassu
DESCRIPTION: Evento Polo Iguassu
END:VEVENT
END:VCALENDAR