BEGIN:VCALENDAR
VERSION:2.0
PRODID:-//eventon.com NONSGML v1.0//EN
BEGIN:VEVENT
UID:69e67e46e489d
DTSTAMP:20260420T162806
DTSTART:20210825T170000Z
DTEND:20210825T200000Z
LOCATION:
SUMMARY:Reunião GT Simplificação e Desburocratização
DESCRIPTION: Reunião GT Simplificação e Desburocratização
END:VEVENT
END:VCALENDAR