BEGIN:VCALENDAR
VERSION:2.0
PRODID:-//eventon.com NONSGML v1.0//EN
BEGIN:VEVENT
UID:69e876574d52f
DTSTAMP:20260422T041847
DTSTART:20210223T220000Z
DTEND:20210224T000000Z
LOCATION:
SUMMARY:Reunião com empresários da Av. Brasil
DESCRIPTION: Reunião com empresários da Av. Brasil
END:VEVENT
END:VCALENDAR