BEGIN:VCALENDAR
VERSION:2.0
PRODID:-//eventon.com NONSGML v1.0//EN
BEGIN:VEVENT
UID:69e7e86f2b6d6
DTSTAMP:20260421T181319
DTSTART:20200302T200000Z
DTEND:20200302T210000Z
LOCATION:
SUMMARY:Reunião COJEFI
DESCRIPTION: Reunião COJEFI
END:VEVENT
END:VCALENDAR