BEGIN:VCALENDAR
VERSION:2.0
PRODID:-//eventon.com NONSGML v1.0//EN
BEGIN:VEVENT
UID:69e5ae15e069b
DTSTAMP:20260420T013949
DTSTART:20190926T220000Z
DTEND:20190927T003000Z
LOCATION:
SUMMARY:Reunião Núcleo de Coaches
DESCRIPTION: Reunião Núcleo de Coaches
END:VEVENT
END:VCALENDAR