BEGIN:VCALENDAR
VERSION:2.0
PRODID:-//eventon.com NONSGML v1.0//EN
BEGIN:VEVENT
UID:69ecdef9f0224
DTSTAMP:20260425T123417
DTSTART:20190911T220000Z
DTEND:20190911T233000Z
LOCATION:
SUMMARY:Reunião COJEFI
DESCRIPTION: Reunião COJEFI
END:VEVENT
END:VCALENDAR